BEGIN:VCALENDAR
VERSION:2.0
PRODID:-//Pafiliwn Llangollen Pavilion - ECPv6.15.20//NONSGML v1.0//EN
CALSCALE:GREGORIAN
METHOD:PUBLISH
X-ORIGINAL-URL:https://llangollenpavilion.co.uk
X-WR-CALDESC:Events for Pafiliwn Llangollen Pavilion
REFRESH-INTERVAL;VALUE=DURATION:PT1H
X-Robots-Tag:noindex
X-PUBLISHED-TTL:PT1H
BEGIN:VTIMEZONE
TZID:Europe/London
BEGIN:DAYLIGHT
TZOFFSETFROM:+0000
TZOFFSETTO:+0100
TZNAME:BST
DTSTART:20250330T010000
END:DAYLIGHT
BEGIN:STANDARD
TZOFFSETFROM:+0100
TZOFFSETTO:+0000
TZNAME:GMT
DTSTART:20251026T010000
END:STANDARD
BEGIN:DAYLIGHT
TZOFFSETFROM:+0000
TZOFFSETTO:+0100
TZNAME:BST
DTSTART:20260329T010000
END:DAYLIGHT
BEGIN:STANDARD
TZOFFSETFROM:+0100
TZOFFSETTO:+0000
TZNAME:GMT
DTSTART:20261025T010000
END:STANDARD
BEGIN:DAYLIGHT
TZOFFSETFROM:+0000
TZOFFSETTO:+0100
TZNAME:BST
DTSTART:20270328T010000
END:DAYLIGHT
BEGIN:STANDARD
TZOFFSETFROM:+0100
TZOFFSETTO:+0000
TZNAME:GMT
DTSTART:20271031T010000
END:STANDARD
END:VTIMEZONE
BEGIN:VEVENT
DTSTART;TZID=Europe/London:20260702T170000
DTEND;TZID=Europe/London:20260702T223000
DTSTAMP:20260423T192223
CREATED:20251118T141942Z
LAST-MODIFIED:20251118T141942Z
UID:402-1783011600-1783031400@llangollenpavilion.co.uk
SUMMARY:Super Furry Animals – TK Maxx presents Live at Llangollen Pavilion
DESCRIPTION:It’s Not The End Of The World — it’s another chance to see the Furries! \nTickets flew out within hours across the country when Super Furry Animals announced their first live dates in 10 years. Now\, fans of Wales’ most offbeat musical icons have another chance to catch the psychedelic legends back in action when they headline TK Maxx Presents Live at Llangollen Pavilion on Thursday July 2. \nThey will be joined on the night by two very special guests – the explosive five-piece punk band Panic Shack and the eccentric psychedelic six-piece Melin Melyn. \n  \n\nBOOK TICKETS HERE\nor call 01978 862001 for tickets and information.
URL:https://llangollenpavilion.co.uk/event/super-furry-animals-tk-maxx-presents-live-at-llangollen-pavilion/
ATTACH;FMTTYPE=image/jpeg:https://llangollenpavilion.co.uk/wp-content/uploads/2025/11/SUPER-FURRY-ANIMALS-cc-Ryan-Eddleston-Resized.jpg
END:VEVENT
BEGIN:VEVENT
DTSTART;TZID=Europe/London:20260703T170000
DTEND;TZID=Europe/London:20260703T223000
DTSTAMP:20260423T192223
CREATED:20251121T124354Z
LAST-MODIFIED:20251205T105733Z
UID:406-1783098000-1783117800@llangollenpavilion.co.uk
SUMMARY:Bowling for Soup + Frank Turner & The Sleeping Souls – TK Maxx presents Live at Llangollen Pavilion
DESCRIPTION:Llangollen get ready to be bowled over… \nTexan pop punk legends Bowling For Soup and folk punk royalty Frank Turner and the Sleeping Souls are teaming up next summer and they are heading to North Wales. \nThe two genre-defying musical powerhouses and long-time friends are joining forces for the first time ever for a run of dates across the country with their Bowl My Bones tour headlining TK Maxx Presents Live At Llangollen Pavilion on Friday July 3. \nOne of rocks’ most unlikely friendships began years ago\, sparked by Bowling For Soup frontman Jaret Reddick’s admiration for Frank Turner’s music. In more recent years the two became good friends\, even hosting a weekly live stream together during the COVID pandemic. Now\, after years of fan requests\, the tour they’ve been hoping for is finally happening. \nFrank is very much looking forward to hitting the road with his long-time friends: “I love summer\, I love touring\, and I really love Bowling For Soup. So let’s cut to the chase and do them all at the same time! These shows are going to be a lot of fun\, I’m honoured to be part of the adventure.“ \nWhile the feeling is more than mutual from Bowling For Soup’s Jaret: “Discovering Frank Turner’s music happened at an important time in my life. I needed it\, but I didn’t know how much. Now\, many years later\, I get to call him friend\, and touring with him and The Sleeping Souls in his home country of the UK seems unreal to me. I think these are going to be special Summer nights that none of us will forget! Stoked!!!” \nThe announcement of the tour follows swiftly on from the news of Bowling For Soup teaming up Wales’ viral sensations Punk Rock Factory to release a brand-new version of Endless Possibility featuring alt-rock legends Wheatus\, the main theme song from video game Sonic Unleashed. The song was originally written by Jaret and has become one of the most beloved songs from the Sonic The Hedgehog franchise ever\, with fans continuing to post about it\, stream it\, and cover it more than 15 years later. \n  \n\nBOOK TICKETS HERE\nor call 01978 862001 for tickets and information.
URL:https://llangollenpavilion.co.uk/event/bowling-for-soup-frank-turner-the-sleeping-souls-tk-maxx-presents-live-at-llangollen-pavilion/
ATTACH;FMTTYPE=image/webp:https://llangollenpavilion.co.uk/wp-content/uploads/2025/11/1920x1080-BFFT.webp
END:VEVENT
BEGIN:VEVENT
DTSTART;TZID=Europe/London:20260704T170000
DTEND;TZID=Europe/London:20260704T223000
DTSTAMP:20260423T192223
CREATED:20251113T125055Z
LAST-MODIFIED:20251113T125055Z
UID:396-1783184400-1783204200@llangollenpavilion.co.uk
SUMMARY:Deacon Blue – TK Maxx presents Live at Llangollen Pavilion
DESCRIPTION:Scottish legends Deacon Blue are set to light up summer 2026 as they bring their signature sound and electrifying live tour to Llangollen. \n\n\nThe Real Gone Kid and Dignity hitmakers will headline TK Maxx presents Live at Llangollen Pavilion on Saturday July 4 as part of The Great Western Road Trip Rolls On tour. \n\n\nPerforming their biggest hits alongside songs from their latest album The Great Western Road\, Deacon Blue will be joined on the night by very special guests Lightning Seeds. \n\n\nSpeaking about hitting the road\, frontman Ricky Ross said: “No one knows where The Great Western Road ends up\, least of all us! For now the road goes on and next summer we are taking the shows to some beautiful venues. We can’t wait to see you there and we promise to make every night very special.” \n\n\nCelebrating 40 years since Ross and Dougie Vipond first formed the band\, Deacon Blue’s Llangollen headline show will be a career-spanning night of hits including Chocolate Girl\, Wages Day and Fergus Sings The Blues — alongside highlights from The Great Western Road\, their most successful studio release in more than three decades\, reaching Number 3 in the UK and topping the Scottish Album Chart. \n\n\nRecorded at the legendary Rockfield Studios\, the album reunites Ross and guitarist Gregor Philp as producers\, with engineer Matt Butler\, who worked on Deacon Blue’s classic debut Raintown. The record captures the band’s journey across four decades\, reflecting on life\, love and longevity. \n\n\nWith more than 7 million albums sold\, two UK Number One albums\, and a songbook filled with heartfelt\, singalong hits\, Deacon Blue remain one of the UK’s most enduring and best-loved live acts. Their headline show at Llangollen promises to be a celebration of their remarkable story – and a showcase of a band still creating\, evolving\, and connecting with fans new and old. \n\n\nJoining them as very special guests are Liverpudlian indie icons Lightning Seeds\, the masterminds behind timeless favourites Pure and Lucky You. \n\n\nBursting on to the music scene in the late ’80s with their shimmering debut Cloudcuckooland\, the band quickly became one of the UK’s most cherished indie-pop acts. Led by songwriter and producer Ian Broudie\, their catalogue spans era-defining hits like The Life of Riley\, Sense\, and Change. Renowned for melodic brilliance and feel-good live shows\, Lightning Seeds continue to delight fans across generations – the perfect addition to an unmissable night at Llangollen Pavilion. \n\n  \nBOOK TICKETS HERE\nor call 01978 862001 for tickets and information.
URL:https://llangollenpavilion.co.uk/event/deacon-blue-tk-maxx-presents-live-at-llangollen-pavilion/
ATTACH;FMTTYPE=image/webp:https://llangollenpavilion.co.uk/wp-content/uploads/2025/11/1920x1080-DeaconBlue.webp
END:VEVENT
BEGIN:VEVENT
DTSTART;TZID=Europe/London:20260705T170000
DTEND;TZID=Europe/London:20260705T223000
DTSTAMP:20260423T192223
CREATED:20251028T154938Z
LAST-MODIFIED:20251029T110410Z
UID:367-1783270800-1783290600@llangollenpavilion.co.uk
SUMMARY:Tom Grennan – TK Maxx presents Live at Llangollen Pavilion
DESCRIPTION:Multi-platinum-selling artist Tom Grennan will bring his electrifying live show to North Wales next summer as part of a run of headline dates. \nThe chart-topping BRIT and Ivor Novello-nominated star will head to TK Maxx presents Live at Llangollen Pavilion on Sunday 5th July. \nThe announcement follows a period of immense success for Tom Grennan who celebrated landing his third consecutive UK No. 1 album in August with the release of Everywhere I Went Led Me To Where I Didn’t Want To Be. His unstoppable ascent has seen him sell more than 120\,000 tickets in the last 12 months including his recent sold-out Grennan ’25 arena tour. \nGrennan burst onto the music scene in 2016 as the guest vocalist on the Chase & Status track All Goes Wrong\, before stepping into the spotlight with his gold-certified debut album Lighting Matches\, in 2018. Since then\, he’s delivered a string of fan favourites\, including Little Bit of Love\, By Your Side\, Lionheart\, Found What I’ve Been Looking For\, Let’s Go Home Together (with Ella Henderson)\, and How Does It Feel.\nHis breakthrough came in 2021 with Evering Road — a UK Number One album packed with platinum hits and Top 10 singles – which he followed up with 2023’s chart-topping What Ifs & Maybes.\nWith more than 1.5 million album sales\, 2.5 billion streams\, an MTV Award for Best UK Act\, and a sold-out 25\,000-capacity headline show at Gunnersbury Park\, Grennan’s rise has been nothing short of meteoric. Last year\, his festive single It Can’t Be Christmas became a seasonal hit\, reaching Number 3 in the UK charts. \n  \nBOOK TICKETS HERE\nor call 01978 862001 for tickets and information.
URL:https://llangollenpavilion.co.uk/event/tom-grennan-tk-maxx-presents-live-at-llangollen-pavilion/
ATTACH;FMTTYPE=image/webp:https://llangollenpavilion.co.uk/wp-content/uploads/2025/10/1920x1080-TomGrennan.webp
END:VEVENT
BEGIN:VEVENT
DTSTART;VALUE=DATE:20260707
DTEND;VALUE=DATE:20260713
DTSTAMP:20260423T192223
CREATED:20250713T101144Z
LAST-MODIFIED:20251029T110420Z
UID:325-1783382400-1783900799@llangollenpavilion.co.uk
SUMMARY:Llangollen International Musical Eisteddfod
DESCRIPTION:Every summer since 1947 Llangollen has staged one of the world’s most inspirational cultural festivals. Each year around 4\,000 performers and as many as 35\,000 visitors converge on this beautiful small Welsh town and its International Pavilion to sing and dance in a unique combination of competition\, performance\, and international peace and friendship. \nThe competitions climax with the prestigious ‘Choir of the World’\, which determines the best overall choir of the event. In 2005 Luciano Pavarotti added his name to the competition in recognition of his appreciation of the festival and its influence on his career. \n  \nBOOK TICKETS HERE\nor call 01978 862001 for tickets and information.\n—\nMore Information Here
URL:https://llangollenpavilion.co.uk/event/llangollen-international-eisteddfod-2026/
ATTACH;FMTTYPE=image/webp:https://llangollenpavilion.co.uk/wp-content/uploads/2025/06/DSCF5863.webp
END:VEVENT
BEGIN:VEVENT
DTSTART;TZID=Europe/London:20260707T170000
DTEND;TZID=Europe/London:20260707T223000
DTSTAMP:20260423T192223
CREATED:20251205T113951Z
LAST-MODIFIED:20251205T113951Z
UID:421-1783443600-1783463400@llangollenpavilion.co.uk
SUMMARY:Uniting Nations: One World
DESCRIPTION:A year after its unexpected postponement\, one of the most anticipated concerts in the festival’s history finally takes centre stage. Uniting Nations: One World returns to Llangollen in 2026 – a powerful celebration of peace\, hope and global unity. \nThe evening features a full performance of Sir Karl Jenkins’s One World\, conducted by the composer and performed by a remarkable international massed chorus drawn from WorldChoir\, NEW Sinfonia\, and the Covent Garden Chorus\, alongside the Llangollen International Orchestra. Majestic\, uplifting and deeply moving\, One World blends Jenkins’s unmistakable musical language with themes of humanity\, compassion and environmental stewardship – a message that resonates now more than ever. \nThe concert also includes a complete staging of Peace Child: The Musical\, an inspiring work that places young people at the heart of the story\, reminding us all of their vital role as peacemakers and global citizens. \nOpening the night is a newly commissioned work for choir and orchestra by an emerging composer\, written especially for the 2026 Eisteddfod. This world premiere continues Llangollen’s long tradition of nurturing new talent and giving fresh artistic voices an international platform. \nA landmark event in the festival’s history\, Uniting Nations: One World blends extraordinary artistry with a timeless message: that music has the power to heal\, inspire and bring us together across cultures and continents. It promises to be an unforgettable opening to Llangollen 2026. \nTicket Prices: £49.00 | £42.00 | £33.00\nGates Open: 5pm\nShow Time: 7:45pm \n  \nBOOK TICKETS HERE\nor call 01978 862001 for tickets and information.
URL:https://llangollenpavilion.co.uk/event/uniting-nations-one-world/
ATTACH;FMTTYPE=image/webp:https://llangollenpavilion.co.uk/wp-content/uploads/2025/12/07-Uniting_Nations-web.webp
END:VEVENT
BEGIN:VEVENT
DTSTART;TZID=Europe/London:20260708T170000
DTEND;TZID=Europe/London:20260708T223000
DTSTAMP:20260423T192223
CREATED:20251205T114305Z
LAST-MODIFIED:20251205T114656Z
UID:424-1783530000-1783549800@llangollenpavilion.co.uk
SUMMARY:Global Rhythms: Made in Wales
DESCRIPTION:Celebrate the vibrant musical heartbeat of modern Wales with Global Rhythms: Made in Wales – an exhilarating evening that blends Welsh creativity with worldwide influences at the Llangollen International Musical Eisteddfod 2026. \nHeadlining the night is N’famady Kouyaté\, the Guinean-Welsh multi-instrumentalist whose high-energy performances fuse West African rhythms with indie\, pop and traditional Welsh music. His electrifying blend of balafon\, percussion and joyful vocals has made him one of Wales’s most exciting and dynamic artists. \nJoining him are the inimitable Band Pres Llareggub\, bringing their signature brass-driven\, genre-bending sound – with a special appearance fromSage Todz\, one of Wales’s most distinctive and forward-thinking rap voices. Together they create a vibrant musical collision of brass\, hip hop\, folk and global grooves. \nThe evening also features the Children’s Choir of the World Final\, showcasing extraordinary young voices from across the globe\, and the festival’s iconic Parade of Nations – a colourful\, flag-filled celebration of the unity and friendship at the heart of the Eisteddfod. \nWith unforgettable performances\, cross-cultural collaborations and the very best of Welsh talent\, Global Rhythms: Made in Wales is a joyful\, high-energy celebration of Wales’s place on the world stage. \nTicket Prices: £22.40 | £11.20 (child) \nGates Open: 5pm \nShow Time: 7:45pm \n  \nBOOK TICKETS HERE\nor call 01978 862001 for tickets and information.
URL:https://llangollenpavilion.co.uk/event/global-rhythms-made-in-wales/
ATTACH;FMTTYPE=image/webp:https://llangollenpavilion.co.uk/wp-content/uploads/2025/12/08-Global_Rhythms-web.webp
END:VEVENT
BEGIN:VEVENT
DTSTART;TZID=Europe/London:20260709T170000
DTEND;TZID=Europe/London:20260709T223000
DTSTAMP:20260423T192223
CREATED:20251205T114627Z
LAST-MODIFIED:20251205T114627Z
UID:427-1783616400-1783636200@llangollenpavilion.co.uk
SUMMARY:Orchestral Qawwali Project
DESCRIPTION:Experience the exhilarating fusion of Sufi devotional music and full symphonic power as the Orchestral Qawwali Project comes to the Llangollen International Musical Eisteddfod 2026. \nCreated by composer Rushil Ranjan and vocalist Abi Sampa\, this groundbreaking project reimagines the spiritual intensity and rhythmic energy of traditional qawwali through lush orchestral arrangements. The result is a breathtaking sound world where soaring vocals\, pulsing tabla\, harmonium and choir meet the richness of a full orchestra. \nThis one-of-a-kind performance takes audiences on a journey through centuries of Sufi poetry and musical tradition\, brought to life with a contemporary cinematic sweep. Expect moments of exquisite stillness\, explosive rhythmic interplay\, and the irresistible drive that has made qawwali one of the world’s most powerful and joyful musical forms. \nProfound\, uplifting and emotionally charged\, the Orchestral Qawwali Project offers an evening of truly global music-making—honouring ancient traditions while opening them to new horizons. A highlight of this year’s festival\, it’s a concert that will stay with you long after the final note. \nTicket Prices: £45.00 | £37.50 | £29.50\nGates Open: 5pm\nShow Time: 7:45pm \n  \nBOOK TICKETS HERE\nor call 01978 862001 for tickets and information.
URL:https://llangollenpavilion.co.uk/event/orchestral-qawwali-project/
ATTACH;FMTTYPE=image/webp:https://llangollenpavilion.co.uk/wp-content/uploads/2025/12/09-Qawwali_Llan2v3-web.webp
END:VEVENT
BEGIN:VEVENT
DTSTART;TZID=Europe/London:20260710T170000
DTEND;TZID=Europe/London:20260710T223000
DTSTAMP:20260423T192223
CREATED:20251028T155226Z
LAST-MODIFIED:20251029T110428Z
UID:370-1783702800-1783722600@llangollenpavilion.co.uk
SUMMARY:Emeli Sandé with The Absolute Orchestra
DESCRIPTION:One of Britain’s most powerful and distinctive voices\, Emeli Sandé takes to the Pavilion stage for a spectacular one-night-only performance with The Absolute Orchestra. \nRenowned for her stirring anthems Next to Me\, Read All About It\, and Clown\, Emeli has become a defining voice of contemporary British soul and pop. In this unique concert\, her chart-topping hits and intimate ballads will be reimagined in breath taking new orchestral arrangements by Dave Danford\, blending her unmistakable vocals with lush\, cinematic sounds. \nThe Absolute Orchestra – celebrated for their dynamic crossover collaborations – return to Llangollen following last year’s critically acclaimed concert with KT Tunstall\, which captivated audiences with its fusion of rock energy and orchestral depth. This year’s partnership with Emeli Sandé promises to be just as extraordinary: soulful\, symphonic\, and unforgettable. \nTicket Prices: £96.70 | £63.10 | £54.70 | £40.70\nGates Open: 5pm\nShow Time: 7:45pm \n  \nBOOK TICKETS HERE\nor call 01978 862001 for tickets and information.
URL:https://llangollenpavilion.co.uk/event/emeli-sande-with-the-absolute-orchestra/
ATTACH;FMTTYPE=image/webp:https://llangollenpavilion.co.uk/wp-content/uploads/2025/10/emeli-sande-190209_Shot_07_01983-2.webp
END:VEVENT
BEGIN:VEVENT
DTSTART;TZID=Europe/London:20260711T170000
DTEND;TZID=Europe/London:20260711T223000
DTSTAMP:20260423T192223
CREATED:20251028T155426Z
LAST-MODIFIED:20251029T110434Z
UID:373-1783789200-1783809000@llangollenpavilion.co.uk
SUMMARY:An Evening with Michael Ball
DESCRIPTION:The curtain rises on an unforgettable night of song and showmanship as Michael Ball\, Britain’s leading musical theatre star\, takes centre stage at the Llangollen International Musical Eisteddfod. \nAccompanied by his exceptional live band\, Michael will perform a spellbinding selection of music from the worlds of stage\, screen\, and beyond\, from beloved West End classics to chart hits and fan favourites. With his signature warmth\, wit\, and effortless charisma\, he promises a concert brimming with emotion\, humour\, and pure musical joy. \nThe evening will open with the final of the International Voice of Musical Theatre competition\, showcasing rising stars from around the world as they compete for the coveted title before one of the greatest voices of the genre takes to the stage himself. \nA celebration of song\, storytelling\, and star quality\,  An Evening with Michael Ball is set to be a highlight of Llangollen 2026. \nTicket Prices: £96.70 | £63.10 | £49.10 | £43.50 | £35.10\nGates Open: 5pm\nShow Time: 7:45pm \n  \nBOOK TICKETS HERE\nor call 01978 862001 for tickets and information.
URL:https://llangollenpavilion.co.uk/event/an-evening-with-michael-ball/
ATTACH;FMTTYPE=image/webp:https://llangollenpavilion.co.uk/wp-content/uploads/2025/10/MICHAEL_BALL_2962.webp
END:VEVENT
BEGIN:VEVENT
DTSTART;TZID=Europe/London:20260712T170000
DTEND;TZID=Europe/London:20260712T223000
DTSTAMP:20260423T192223
CREATED:20251205T115837Z
LAST-MODIFIED:20251205T115837Z
UID:433-1783875600-1783895400@llangollenpavilion.co.uk
SUMMARY:Choir of the World
DESCRIPTION:The Eisteddfod’s 2026 competitions reach a thrilling climax\, with the highly-anticipated Choir of the World competition. \nSince its inception in 1987\, Choir of the World has become the ultimate showcase for choral excellence\, with top choirs from around the world vying for the prestigious Pavarotti Trophy. This year’s competition promises to be a highlight\, featuring stunning performances from internationally-acclaimed vocal ensembles. \nThe concert will also feature the final of the Pendine International Voice of the Future competition\, where emerging opera singers from across the globe will compete for this prestigious title. \nTicket Prices: £40.70 | £32.30 | £29.50\nGates Open: 5pm\nShow Time: 7pm \n  \nBOOK TICKETS HERE\nor call 01978 862001 for tickets and information.
URL:https://llangollenpavilion.co.uk/event/choir-of-the-world/
ATTACH;FMTTYPE=image/webp:https://llangollenpavilion.co.uk/wp-content/uploads/2025/12/12-Choir_of_the_World-web.webp
END:VEVENT
END:VCALENDAR