BEGIN:VCALENDAR
VERSION:2.0
PRODID:-//Pafiliwn Llangollen Pavilion - ECPv6.15.20//NONSGML v1.0//EN
CALSCALE:GREGORIAN
METHOD:PUBLISH
X-WR-CALNAME:Pafiliwn Llangollen Pavilion
X-ORIGINAL-URL:https://llangollenpavilion.co.uk
X-WR-CALDESC:Events for Pafiliwn Llangollen Pavilion
REFRESH-INTERVAL;VALUE=DURATION:PT1H
X-Robots-Tag:noindex
X-PUBLISHED-TTL:PT1H
BEGIN:VTIMEZONE
TZID:Europe/London
BEGIN:DAYLIGHT
TZOFFSETFROM:+0000
TZOFFSETTO:+0100
TZNAME:BST
DTSTART:20240331T010000
END:DAYLIGHT
BEGIN:STANDARD
TZOFFSETFROM:+0100
TZOFFSETTO:+0000
TZNAME:GMT
DTSTART:20241027T010000
END:STANDARD
BEGIN:DAYLIGHT
TZOFFSETFROM:+0000
TZOFFSETTO:+0100
TZNAME:BST
DTSTART:20250330T010000
END:DAYLIGHT
BEGIN:STANDARD
TZOFFSETFROM:+0100
TZOFFSETTO:+0000
TZNAME:GMT
DTSTART:20251026T010000
END:STANDARD
BEGIN:DAYLIGHT
TZOFFSETFROM:+0000
TZOFFSETTO:+0100
TZNAME:BST
DTSTART:20260329T010000
END:DAYLIGHT
BEGIN:STANDARD
TZOFFSETFROM:+0100
TZOFFSETTO:+0000
TZNAME:GMT
DTSTART:20261025T010000
END:STANDARD
BEGIN:DAYLIGHT
TZOFFSETFROM:+0000
TZOFFSETTO:+0100
TZNAME:BST
DTSTART:20270328T010000
END:DAYLIGHT
BEGIN:STANDARD
TZOFFSETFROM:+0100
TZOFFSETTO:+0000
TZNAME:GMT
DTSTART:20271031T010000
END:STANDARD
END:VTIMEZONE
BEGIN:VEVENT
DTSTART;TZID=Europe/London:20260627T173000
DTEND;TZID=Europe/London:20260627T223000
DTSTAMP:20260423T221402
CREATED:20251013T180806Z
LAST-MODIFIED:20251029T110357Z
UID:343-1782581400-1782599400@llangollenpavilion.co.uk
SUMMARY:Billy Ocean – TK Maxx presents Live at Llangollen Pavilion
DESCRIPTION:Born in Trinidad and raised in London’s East End\, Billy Ocean is one of the UK’s most enduring and successful artists. He has sold more than 30 million records worldwide\, received GRAMMY and Ivor Novello Awards\, two Billboard Music Awards\, a MOBO Lifetime Achievement Award and an MBE for services to music. \nBilly’s breakthrough came with Love Really Hurts Without You in 1976\, followed by a string of global hits including Red Light Spells Danger\, When The Going Gets Tough\, The Tough Get Going\, Loverboy\, Suddenly\, Get Outta My Dreams\, Get Into My Car\, and the GRAMMY Award-winning Caribbean Queen (No More Love On The Run) attracting millions of streams worldwide. \nWith more than 15 million albums sold\, multiple Number One singles\, and iconic hits like Sweet Little Mystery\, Goodnight Girl\, Love Is All Around\, and Angel Eyes\, Marti Pellow is one of the UK’s most loved and versatile vocalists. \nAlongside a successful solo career – spanning pop\, jazz\, and soul – he’s also earned acclaim on the musical theatre stage\, starring in Chicago (West End and Broadway)\, Evita\, Jekyll & Hyde\, Blood Brothers\, and Chess. \n  \nBOOK TICKETS HERE\nor call 01978 862001 for tickets and information.
URL:https://llangollenpavilion.co.uk/event/billy-ocean-tk-maxx-presents-live-at-llangollen-pavilion/
ATTACH;FMTTYPE=image/webp:https://llangollenpavilion.co.uk/wp-content/uploads/2025/10/1920x1080-BillyOcean.webp
END:VEVENT
BEGIN:VEVENT
DTSTART;TZID=Europe/London:20260626T170000
DTEND;TZID=Europe/London:20260626T223000
DTSTAMP:20260423T221402
CREATED:20250901T102612Z
LAST-MODIFIED:20251029T110352Z
UID:334-1782493200-1782513000@llangollenpavilion.co.uk
SUMMARY:David Gray – TK Maxx presents Live at Llangollen Pavilion
DESCRIPTION:David Gray will bring his Past & Present World Tour to Llangollen Pavilion on Friday 26th June 2026. David will be joined on the night by The Divine Comedy. Tour has already seen David sell out 68 shows across the USA\, Australia\, UK and Ireland in 2025\, including landmark nights at London’s Royal Albert Hall\, Glasgow’s SEC Armadillo\, Manchester’s O2 Apollo and Dublin’s 3Arena. \n\nDavid Gray’s story is unlike any other. He spent almost a decade striving to make a breakthrough\, and when it happened it did so in the biggest way imaginable as White Ladder became one of the best-selling British albums of recent decades and established him as an arena-filling artist. \n\n\nAs the years have passed\, his songcraft has only deepened — his natural ability to convey specific emotions\, atmospheres\, or\, as heard on his acclaimed 2021 album Skellig\, a sense of place\, has positioned him firmly in the lineage of classic poetic singer-songwriters. While the likes of Ed Sheeran\, Adele and Hozier have acknowledged his influence\, Gray has continued to follow his own artistic path. \n\n  \nBOOK TICKETS HERE\nor call 01978 862001 for tickets and information.
URL:https://llangollenpavilion.co.uk/event/david-gray-tk-maxx-presents-live-at-llangollen-pavilion/
ATTACH;FMTTYPE=image/webp:https://llangollenpavilion.co.uk/wp-content/uploads/2025/09/1920x1080-DavidGray.webp
END:VEVENT
BEGIN:VEVENT
DTSTART;TZID=Europe/London:20260625T173000
DTEND;TZID=Europe/London:20260625T223000
DTSTAMP:20260423T221402
CREATED:20251013T181003Z
LAST-MODIFIED:20251029T110345Z
UID:346-1782408600-1782426600@llangollenpavilion.co.uk
SUMMARY:Pete Tong Ibiza Classics – TK Maxx presents Live at Llangollen Pavilion
DESCRIPTION:From the sun-soaked shores of Ibiza to the world’s biggest stages\, Pete Tong has redefined live dance music. Earlier this year\, he celebrated the 10th anniversary of Ibiza Classics with four sold-out nights at the Royal Albert Hall alongside The Essential Orchestra and such greats as Becky Hill\, Barbara Tucker\, Damian Lazarus\, David Morales\, Paul Oakenfold\, and Seth Troxler. \nThroughout his remarkable 30-plus year career\, Pete has championed dance music on a global scale\, constantly pushing boundaries and supporting new talent. His contributions were formally recognised with the prestigious Music Industry Trusts Award (MITS) in 2021\, honouring his outstanding impact on music and broadcasting. \n  \nBOOK TICKETS HERE\nor call 01978 862001 for tickets and information.
URL:https://llangollenpavilion.co.uk/event/pete-tong-ibiza-classics-tk-maxx-presents-live-at-llangollen-pavilion/
ATTACH;FMTTYPE=image/webp:https://llangollenpavilion.co.uk/wp-content/uploads/2025/10/1920x1080-PeteTong.webp
END:VEVENT
BEGIN:VEVENT
DTSTART;TZID=Europe/London:20260624T170000
DTEND;TZID=Europe/London:20260624T223000
DTSTAMP:20260423T221402
CREATED:20251113T124605Z
LAST-MODIFIED:20251113T124605Z
UID:393-1782320400-1782340200@llangollenpavilion.co.uk
SUMMARY:Rick Astley – TK Maxx presents Live at Llangollen Pavilion
DESCRIPTION:One of the UK’s best loved pop stars Rick Astley will headline TK Maxx presents Live at Llangollen Pavilion on Wednesday June 24 when he will be joined on the night by very special guests Lottery Winners. \nRick Astley leapt to fame in 1987 with the era-defining smash single Never Gonna Give You Up\, followed by hits including Together Forever and Whenever You Need Somebody. \nAfter stepping away from the spotlight for several years\, audiences in Llangollen were treated to a special night in 2011 when he performed during the opening of that years Eisteddfod. Then in 2016\, he celebrated his 50th birthday with a triumphant return to the top of the charts with his hit album 50. \nAnd the still-boyish singer\, songwriter and producer has stayed at the top of his game ever since\, enjoying collaborations with the likes of Foo Fighters and Blossoms\, show-stealing sets at Glastonbury and a number two chart position for 2023 album Are We There Yet? – contributing to more than 40million record sales worldwide. \nJoining him in Llangollen will be indie pop band Lottery Winners. Earlier this year the band racked up their second Number 1 album with the release of fourth studio album KOKO. \nAnd 2025 has continued at speed as not only have the band performed some of their biggest headline shows to date this year\, they also spent the summer on the road supporting Robbie Williams on his UK and Europe stadium tour. \n  \nBOOK TICKETS HERE\nor call 01978 862001 for tickets and information.
URL:https://llangollenpavilion.co.uk/event/rick-astley-tk-maxx-presents-live-at-llangollen-pavilion/
ATTACH;FMTTYPE=image/webp:https://llangollenpavilion.co.uk/wp-content/uploads/2025/11/rickastley26_1920x1080-1-2.webp
END:VEVENT
BEGIN:VEVENT
DTSTART;TZID=Europe/London:20260606T100000
DTEND;TZID=Europe/London:20260606T163000
DTSTAMP:20260423T221402
CREATED:20251113T171959Z
LAST-MODIFIED:20251113T171959Z
UID:399-1780740000-1780763400@llangollenpavilion.co.uk
SUMMARY:Llangollen Garden Railway Festival
DESCRIPTION:The Llangollen Garden Railway Festival is one of the UK’s newest and fastest-growing events dedicated to large-scale model railways. Founded in 2022\, it brings together garden railway enthusiasts\, families and curious visitors for a full day of layouts\, displays and specialist traders. The festival is held at the Llangollen Royal International Pavilion\, a spacious and accessible venue ideal for showcasing impressive large-scale models. \nEach year the festival features an expanding line-up of layouts representing different periods\, countries and modelling styles. Visitors can enjoy live demonstrations\, talk to experienced operators and discover the latest products from leading retailers and societies. With more than 40 stalls\, the event offers a wide selection of equipment\, accessories and unique finds for both new and experienced modellers. \nThe festival is entirely volunteer-run\, created to celebrate the hobby and support the wider community. Since its launch\, it has grown in attendance and scale\, reflecting the increasing interest in garden railways across the UK. The organisers work closely with traders\, exhibitors and local groups to deliver a welcoming and engaging experience for all ages. \nA key part of the festival’s mission is giving back. Through ticket sales and support from visitors\, the event has raised over £10\,000 for local charities. The Llangollen Garden Railway Festival continues to develop each year\, and full details about the upcoming event can be found at www.lgrf.co.uk
URL:https://llangollenpavilion.co.uk/event/llangollen-garden-railway-festival/
ATTACH;FMTTYPE=image/png:https://llangollenpavilion.co.uk/wp-content/uploads/2025/11/LGRF.png
END:VEVENT
BEGIN:VEVENT
DTSTART;VALUE=DATE:20260516
DTEND;VALUE=DATE:20260518
DTSTAMP:20260423T221402
CREATED:20251013T181515Z
LAST-MODIFIED:20251013T181515Z
UID:349-1778889600-1779062399@llangollenpavilion.co.uk
SUMMARY:Wales Horror Con
DESCRIPTION:Wales Horror Con is coming to the Llangollen Pavilion on 16–17 May 2026\, and tickets are on sale now.\n\n\nHorror has always had a special place at Wales Comic Con — over the years we’ve welcomed icons like Bruce Campbell and Brad Dourif\, celebrated the work of comic book legends Charlie Adlard and James O’Barr\, hosted acclaimed directors MJ Bassett and Neil Marshall\, and brought cast members from The Walking Dead\, Halloween\, and Dawn of the Dead to our events.\n\n\nNow it’s time for horror to have a weekend of its very own. Across the Pavilion and grounds you can expect celebrity guests\, creators\, gaming\, cosplay\, and activities — all wrapped up in a celebration of the genre we know our fans love.
URL:https://llangollenpavilion.co.uk/event/wales-horror-con/
ATTACH;FMTTYPE=image/png:https://llangollenpavilion.co.uk/wp-content/uploads/2025/10/logo-original1-768x603-1.png
END:VEVENT
BEGIN:VEVENT
DTSTART;TZID=Europe/London:20260508T193000
DTEND;TZID=Europe/London:20260508T210000
DTSTAMP:20260423T221402
CREATED:20260408T141945Z
LAST-MODIFIED:20260408T142039Z
UID:486-1778268600-1778274000@llangollenpavilion.co.uk
SUMMARY:An Evening of Welsh Music & Song – Fundraising Concert
DESCRIPTION:An Evening of Welsh Music & Song – Fundraising ConcertMay 8 @ 7:00 pm – 9:30 pm \n \nThe Llangollen International Musical Eisteddfod is delighted to announce a special fundraising concert taking place on Friday 8 May 2026\, celebrating the richness and spirit of Welsh musical tradition. \nThis unique evening will feature the acclaimed male voice choir Meibion Marchan\, renowned for their powerful sound and deeply expressive performances. They will be joined by an outstanding line-up of soloists: celebrated harpist Angharad Huw\, soprano Branwen Medi Jones\, and internationally respected tenor Rhys Meirion\, who will also guide the evening as compère. \nBringing together some of Wales’ finest musical talent\, the concert promises an evening of warmth\, artistry and national pride\, with a programme that reflects both the heritage and continuing vitality of Welsh music. \nThe concert will take place in the hall within the iconic Llangollen Pavilion — a setting at the heart of the Eisteddfod site\, offering an intimate and atmospheric concert experience within one of Wales’ most recognisable cultural venues. \nProceeds from the concert will directly support the work of the Eisteddfod\, helping to sustain its mission of bringing together performers from across the world in a spirit of peace\, friendship and cultural exchange. As the festival continues to evolve and grow\, events such as this play a vital role in ensuring its future and expanding its reach. \nArtistic Director Dave Danford said:\n“This concert is a celebration of the extraordinary musical talent we have here in Wales\, and a reminder of the deep cultural roots that underpin the Eisteddfod. We are incredibly grateful to these artists for supporting the festival in this way\, and we look forward to welcoming audiences for what promises to be a truly special evening.” \nAudiences can expect an uplifting and memorable experience\, combining choral excellence\, virtuosic instrumental performance\, and some of Wales’ most beloved vocal repertoire. \nTickets are now available via boxoffice.international-eisteddfod.co.uk
URL:https://llangollenpavilion.co.uk/event/an-evening-of-welsh-music-song-fundraising-concert/
END:VEVENT
BEGIN:VEVENT
DTSTART;VALUE=DATE:20260404
DTEND;VALUE=DATE:20260406
DTSTAMP:20260423T221402
CREATED:20260118T202955Z
LAST-MODIFIED:20260118T202955Z
UID:438-1775260800-1775433599@llangollenpavilion.co.uk
SUMMARY:Wales Comic Con
DESCRIPTION:Wales Comic Con returns this Spring on April 4th and 5th at Llangollen Pavilion\, taking place over Easter weekend. The event follows the success of the most recent show and marks the first part of an exciting year ahead. \nTickets are on sale now\, with a range of options available. In the lead-up to the event\, there will be guest announcements\, panel reveals\, and further content updates available at www.walescomiccon.com
URL:https://llangollenpavilion.co.uk/event/wales-comic-con-april-2026/
ATTACH;FMTTYPE=image/jpeg:https://llangollenpavilion.co.uk/wp-content/uploads/2026/01/Screenshot_2026-01-18-20-14-37-39_1c337646f29875672b5a61192b9010f9.jpg
END:VEVENT
BEGIN:VEVENT
DTSTART;TZID=Europe/London:20260329T133000
DTEND;TZID=Europe/London:20260329T153000
DTSTAMP:20260423T221402
CREATED:20260212T133940Z
LAST-MODIFIED:20260225T121245Z
UID:456-1774791000-1774798200@llangollenpavilion.co.uk
SUMMARY:ORIGAMI WORKSHOP WITH TONY O'HARE
DESCRIPTION:  \nWorkshop  – 21st century origami \nIS IT A BIRD?  IS IT A PLANE?  COME ALONG AND FIND OUT \nMAXIMUM 20 PLACES – this workshop is catered for adults. \nBOOK HERE \nTea and coffee available. Please bring your own lunch. \n  \n 
URL:https://llangollenpavilion.co.uk/event/origami-workshop-with-tony-ohare/
LOCATION:Llangollen Pavilion\, Abbey Road\, Llangollen\, LL20 8SW\, United Kingdom
ORGANIZER;CN="Steve Price":MAILTO:stevepriceart@gmail.com
END:VEVENT
BEGIN:VEVENT
DTSTART;TZID=Europe/London:20260329T100000
DTEND;TZID=Europe/London:20260329T120000
DTSTAMP:20260423T221402
CREATED:20260212T133735Z
LAST-MODIFIED:20260225T120920Z
UID:453-1774778400-1774785600@llangollenpavilion.co.uk
SUMMARY:ORIGAMI TALK AND DEMONSTRATION WITH TONY O'HARE
DESCRIPTION:Seated Talk and demonstration about the origins of origami. \nOpen for all ages. \nBOOK HERE \nTea and coffee available. Please bring your own lunch. \n 
URL:https://llangollenpavilion.co.uk/event/origami-talk-and-demonstration-with-tony-ohare/
LOCATION:Llangollen Pavilion\, Abbey Road\, Llangollen\, LL20 8SW\, United Kingdom
ORGANIZER;CN="Steve Price":MAILTO:stevepriceart@gmail.com
END:VEVENT
BEGIN:VEVENT
DTSTART;TZID=Europe/London:20260322T100000
DTEND;TZID=Europe/London:20260322T160000
DTSTAMP:20260423T221402
CREATED:20260212T133220Z
LAST-MODIFIED:20260226T094134Z
UID:451-1774173600-1774195200@llangollenpavilion.co.uk
SUMMARY:SCRAPBOOKERS WORKSHOP TUTORIAL WITH SIAN
DESCRIPTION:Day Project \nBring your own equipment \nTea and coffee available. Please bring your own lunch. \nBook here \n  \n 
URL:https://llangollenpavilion.co.uk/event/scrapbookers-workshop-tutorial-with-sian/
LOCATION:Llangollen Pavilion\, Abbey Road\, Llangollen\, LL20 8SW\, United Kingdom
ORGANIZER;CN="Steve Price":MAILTO:stevepriceart@gmail.com
END:VEVENT
BEGIN:VEVENT
DTSTART;TZID=Europe/London:20260308T100000
DTEND;TZID=Europe/London:20260308T160000
DTSTAMP:20260423T221402
CREATED:20260303T122340Z
LAST-MODIFIED:20260303T122347Z
UID:481-1772964000-1772985600@llangollenpavilion.co.uk
SUMMARY:International Women’s Day Celebration!
DESCRIPTION:International Women's Day - Poster plus schedule updated v2
URL:https://llangollenpavilion.co.uk/event/international-womens-day-celebration/
LOCATION:Llangollen Pavilion\, Abbey Road\, Llangollen\, LL20 8SW\, United Kingdom
END:VEVENT
BEGIN:VEVENT
DTSTART;TZID=Europe/London:20260301T100000
DTEND;TZID=Europe/London:20260301T160000
DTSTAMP:20260423T221402
CREATED:20260212T132827Z
LAST-MODIFIED:20260227T104334Z
UID:443-1772359200-1772380800@llangollenpavilion.co.uk
SUMMARY:POSTPONED! - DRAGON WORKSHOP WITH JAX
DESCRIPTION:POSTPONED – This event will now be held in September 2026  – further details will be added in due course.\n  \nMake Your Own Dragon Workshop \nMaterial Included \nBasic sewing skills required \nBring your own sewing kit \nCatered for Adults \n  \nTea and coffee available. Please bring you own lunch. \n 
URL:https://llangollenpavilion.co.uk/event/dragon-workshop-with-jax/
LOCATION:Llangollen Pavilion\, Abbey Road\, Llangollen\, LL20 8SW\, United Kingdom
ATTACH;FMTTYPE=image/jpeg:https://llangollenpavilion.co.uk/wp-content/uploads/2026/02/Dragons-scaled-e1770902857779.jpg
END:VEVENT
BEGIN:VEVENT
DTSTART;TZID=Europe/London:20251123T100000
DTEND;TZID=Europe/London:20251123T163000
DTSTAMP:20260423T221402
CREATED:20251028T162921Z
LAST-MODIFIED:20251028T163526Z
UID:377-1763892000-1763915400@llangollenpavilion.co.uk
SUMMARY:Mind Body Spirit Festival Llangollen
DESCRIPTION:Sunday 23rd November 2025\nLlangollen Pavilion\nLlangollen is a special place.  Here you will discover just how the beautiful surroundings enhance the energies of this very special venue.   We have lots of gorgeous stalls offering alternative therapies\, psychic one to one readings\, complementary healing\, mediumship\, tarot\, angel cards\, well-being and beauty products\, ethical cosmetics\, crystals\, incense\, festival clothing\, crystals\, candles\, fair-trade gifts and alternative crafts. \nOur talks and workshops are FREE too! \nENTRY IS JUST £2! \nFREE WORKSHOPS!  Details to be confirmed. \nWith lots of  stalls offering a wide range of healing\, alternative therapies\, health and well being products\, ethical cosmetics\, psychic readings\, fair-trade gifts\, Wiccan and Pagan ritual supplies and gorgeous hand crafted wares\, The Llangollen Mind Body Spirit Festival promises to be a wonderful day of discovery and delight.  You can immerse yourself in so many different experiences and float on the tranquil energies of this unique event. \nThe Llangollen Mind Body Spirit Festival on the 23rd. of November is the must-go-to event for your diary.
URL:https://llangollenpavilion.co.uk/event/mind-body-spirit-festival-llangollen/
ATTACH;FMTTYPE=image/png:https://llangollenpavilion.co.uk/wp-content/uploads/2025/10/llangollenMBS2025.png
END:VEVENT
BEGIN:VEVENT
DTSTART;VALUE=DATE:20250920
DTEND;VALUE=DATE:20250922
DTSTAMP:20260423T221402
CREATED:20250630T142035Z
LAST-MODIFIED:20250630T142035Z
UID:288-1758326400-1758499199@llangollenpavilion.co.uk
SUMMARY:Wales Comic Con
DESCRIPTION:Wales Comic Con is coming to the Llangollen Pavilion on 20–21 September 2025 for an epic weekend celebrating all things pop culture. From superheroes and sci-fi to fantasy and horror\, the event brings fans together for two days packed with cosplay\, gaming\, panels\, and more. Whether you’re dressing up\, exploring the latest games\, or browsing exclusive merch\, there’s something for everyone to enjoy. \nYou’ll have the chance to meet a wide range of special guests including actors\, content creators\, artists\, and writers. Sit in on Q&A panels\, check out incredible artwork in Artists Alley\, or get stuck into the action in the Gaming Zone. It’s a vibrant\, creative space where fans can connect\, geek out\, and make the most of everything pop culture has to offer.
URL:https://llangollenpavilion.co.uk/event/wales-comic-con/
ATTACH;FMTTYPE=image/png:https://llangollenpavilion.co.uk/wp-content/uploads/2025/06/WCC.png
END:VEVENT
BEGIN:VEVENT
DTSTART;VALUE=DATE:20250809
DTEND;VALUE=DATE:20250811
DTSTAMP:20260423T221402
CREATED:20250701T093051Z
LAST-MODIFIED:20250701T093051Z
UID:300-1754697600-1754870399@llangollenpavilion.co.uk
SUMMARY:The Legendary Llangollen Faery Festival
DESCRIPTION:Join us on 9–10 August 2025 for the thirteenth anniversary of The Legendary Llangollen Faery Festival\, the UK’s biggest faery-themed event. Set in the stunning Dee Valley\, this magical weekend offers fun for all ages with free workshops\, storytelling\, live music\, and vintage fairground rides. You’ll meet Fairy Bears\, Uncle Unicorn\, and even pose with owls. There’s also the massive Faery Market\, featuring over 200 traders selling handmade crafts\, costumes\, crystals\, and curios. And if you’re feeling fancy\, there are fairy gowns\, wings\, tiaras\, and more to help you truly dress the part. \nInside the weatherproof Llangollen Pavilion\, you’ll find even more stalls\, workshops\, and a literary corner dubbed “Way on Hye.” Live music runs all weekend on the Dragon Stage\, with a full lineup of acoustic acts. On Saturday night\, the over-16s can head to the Grand Faery Ball to dance the night away in full fairy finery. With ticket prices frozen for the third year running\, there’s no better time to escape the gloom and dive into some magical mayhem. Get your tickets here: Eventbrite link.
URL:https://llangollenpavilion.co.uk/event/the-legendary-llangollen-faery-festival/
ATTACH;FMTTYPE=image/png:https://llangollenpavilion.co.uk/wp-content/uploads/2025/07/Faery.png
END:VEVENT
BEGIN:VEVENT
DTSTART;VALUE=DATE:20250708
DTEND;VALUE=DATE:20250714
DTSTAMP:20260423T221402
CREATED:20250628T212337Z
LAST-MODIFIED:20250701T105943Z
UID:278-1751932800-1752451199@llangollenpavilion.co.uk
SUMMARY:Llangollen International Eisteddfod
DESCRIPTION:Every summer since 1947 Llangollen has staged one of the world’s most inspirational cultural festivals. Each year around 4\,000 performers and as many as 35\,000 visitors converge on this beautiful small Welsh town and its International Pavilion; to sing and dance in a unique combination of competition\, performance\, and international peace and friendship. \nThe competitions climax with the prestigious ‘Choir of the World’\, which determines the best overall choir of the event. In 2005 Luciano Pavarotti added his name to the competition in recognition of his appreciation of the festival and its influence on his career.
URL:https://llangollenpavilion.co.uk/event/llangollen-international-eisteddfod/
ATTACH;FMTTYPE=image/webp:https://llangollenpavilion.co.uk/wp-content/uploads/2025/06/DSCF5863.webp
END:VEVENT
BEGIN:VEVENT
DTSTART;TZID=Europe/London:20250705T170000
DTEND;TZID=Europe/London:20250705T223000
DTSTAMP:20260423T221402
CREATED:20250627T225035Z
LAST-MODIFIED:20250703T181224Z
UID:275-1751734800-1751754600@llangollenpavilion.co.uk
SUMMARY:The Human League – TK Maxx presents Live at Llangollen Pavilion
DESCRIPTION:  \nBritish synth-pop pioneers The Human League will bring their iconic electronic sound to North Wales this summer when they headline TK Maxx presents Live at Llangollen Pavilion. \nThe BRIT Award-winners will make their highly anticipated Llangollen debut on Saturday July 5 and they will be joined on the night by The Christians and Altered Images.
URL:https://llangollenpavilion.co.uk/event/the-human-league-tk-maxx-presents-live-at-llangollen-pavilion/
END:VEVENT
BEGIN:VEVENT
DTSTART;TZID=Europe/London:20250704T170000
DTEND;TZID=Europe/London:20250704T223000
DTSTAMP:20260423T221402
CREATED:20250627T224755Z
LAST-MODIFIED:20250703T181124Z
UID:273-1751648400-1751668200@llangollenpavilion.co.uk
SUMMARY:Olly Murs – TK Maxx presents Live at Llangollen Pavilion
DESCRIPTION:Chart-topping pop sensation Olly Murs is bringing his 15 Years of Hits UK tour to North Wales this summer.\n \nOne of Britain’s biggest and best-loved stars\, the Troublemaker and Marry Me star\, will headline TK Maxx presents Live at Llangollen Pavilion on Friday July 4\, and he will be joined on the night by very special guest Lemar.
URL:https://llangollenpavilion.co.uk/event/olly-murs-tk-maxx-presents-live-at-llangollen-pavilion/
END:VEVENT
BEGIN:VEVENT
DTSTART;TZID=Europe/London:20250703T170000
DTEND;TZID=Europe/London:20250703T223000
DTSTAMP:20260423T221402
CREATED:20250627T224605Z
LAST-MODIFIED:20250703T181308Z
UID:271-1751562000-1751581800@llangollenpavilion.co.uk
SUMMARY:The Script – TK Maxx presents Live at Llangollen Pavilion
DESCRIPTION:Global pop-rock sensation The Script are heading to North Wales this summer as part of their Satellites UK Tour. \n\n\nThe Irish chart toppers are the first act to be announced to headline TK Maxx presents Live at Llangollen Pavilion in 2025 and will perform at the venue on Thursday July 3. They will be joined on the night by very special guest Tom Walker.
URL:https://llangollenpavilion.co.uk/event/the-script-tk-maxx-presents-live-at-llangollen-pavilion/
END:VEVENT
BEGIN:VEVENT
DTSTART;TZID=Europe/London:20250629T170000
DTEND;TZID=Europe/London:20250629T233000
DTSTAMP:20260423T221402
CREATED:20250627T224503Z
LAST-MODIFIED:20250627T224503Z
UID:269-1751216400-1751239800@llangollenpavilion.co.uk
SUMMARY:James – TK Maxx presents Live at Llangollen Pavilion
DESCRIPTION:Indie greats James are heading to North Wales this summer to headline TK Maxx presents Live at Llangollen Pavilion. \nThe Manchester legends – who gave the world such timeless anthems as Sit Down\, Born of Frustration\, She’s A Star and Come Home – will perform on Sunday June 29. And will be joined by The K’s & Tom A Smith.
URL:https://llangollenpavilion.co.uk/event/james-tk-maxx-presents-live-at-llangollen-pavilion/
END:VEVENT
BEGIN:VEVENT
DTSTART;TZID=Europe/London:20250628T170000
DTEND;TZID=Europe/London:20250628T233000
DTSTAMP:20260423T221402
CREATED:20250526T155254Z
LAST-MODIFIED:20250627T225635Z
UID:126-1751130000-1751153400@llangollenpavilion.co.uk
SUMMARY:UB40 featuring Ali Campbell – TK Maxx presents Live at Llangollen Pavilion
DESCRIPTION:Iconic British reggae band UB40 featuring Ali Campbell will bring their reggae magic to North Wales this summer when they headline TK Maxx presents Live at Llangollen Pavilion on Saturday June 28\, joined by Bitty McLean. \nAli Campbell’s unmistakable voice has driven UB40 to achieve more than 70 million record sales and 51 UK chart hits. This highly anticipated show marks his return to Llangollen\, where he last performed as part of the prestigious International Eisteddfod in 2016.
URL:https://llangollenpavilion.co.uk/event/ub40-featuring-ali-campbell-live-at-llangollen-pavilion/
END:VEVENT
BEGIN:VEVENT
DTSTART;TZID=Europe/London:20250627T170000
DTEND;TZID=Europe/London:20250627T233000
DTSTAMP:20260423T221402
CREATED:20250526T155103Z
LAST-MODIFIED:20250526T155103Z
UID:124-1751043600-1751067000@llangollenpavilion.co.uk
SUMMARY:Rag’n’Bone Man – Live at Llangollen Pavilion
DESCRIPTION:Critically acclaimed\, chart-topping British singer-songwriter Rag’n’Bone Man will bring his stunning live show to North Wales next summer. \nThe triple BRIT Award and Ivor Novello Award winner will headline Live at Llangollen Pavilion on Friday June 27\, when he will be joined by blues star Elles Bailey.
URL:https://llangollenpavilion.co.uk/event/ragnbone-man-live-at-llangollen-pavilion/
END:VEVENT
BEGIN:VEVENT
DTSTART;TZID=Europe/London:20250626T170000
DTEND;TZID=Europe/London:20250626T233000
DTSTAMP:20260423T221402
CREATED:20250524T220607Z
LAST-MODIFIED:20250524T220957Z
UID:73-1750957200-1750980600@llangollenpavilion.co.uk
SUMMARY:Texas – Live at Llangollen Pavilion
DESCRIPTION:  \nFollowing on from their critically acclaimed sold-out UK arena tour\, Texas will be bringing their popular\, crowd loving live show to Llangollen next summer.  \nFronted by Sharleen Spiteri\, Texas will showcase five decades of music from the worldwide classic I Don’t Want A Lover to the modern-day hits of Mr Haze and Keep on Talking when they headline Live at Llangollen Pavilion on Thursday June 26. \nWith more than 40 million albums sold\, their songs continue to resonate with fans across the world including the ever popular Say What You Want\, Summer Son and Inner Smile.
URL:https://llangollenpavilion.co.uk/event/texas-live-at-llangollen-pavilion/
END:VEVENT
END:VCALENDAR